BEGIN:VCALENDAR
VERSION:2.0
PRODID:-//Minnesota Coalition Against Sexual Assault - ECPv6.15.17.1//NONSGML v1.0//EN
CALSCALE:GREGORIAN
METHOD:PUBLISH
X-ORIGINAL-URL:https://mncasa.org
X-WR-CALDESC:Events for Minnesota Coalition Against Sexual Assault
REFRESH-INTERVAL;VALUE=DURATION:PT1H
X-Robots-Tag:noindex
X-PUBLISHED-TTL:PT1H
BEGIN:VTIMEZONE
TZID:America/Chicago
BEGIN:DAYLIGHT
TZOFFSETFROM:-0600
TZOFFSETTO:-0500
TZNAME:CDT
DTSTART:20250309T080000
END:DAYLIGHT
BEGIN:STANDARD
TZOFFSETFROM:-0500
TZOFFSETTO:-0600
TZNAME:CST
DTSTART:20251102T070000
END:STANDARD
BEGIN:DAYLIGHT
TZOFFSETFROM:-0600
TZOFFSETTO:-0500
TZNAME:CDT
DTSTART:20260308T080000
END:DAYLIGHT
BEGIN:STANDARD
TZOFFSETFROM:-0500
TZOFFSETTO:-0600
TZNAME:CST
DTSTART:20261101T070000
END:STANDARD
BEGIN:DAYLIGHT
TZOFFSETFROM:-0600
TZOFFSETTO:-0500
TZNAME:CDT
DTSTART:20270314T080000
END:DAYLIGHT
BEGIN:STANDARD
TZOFFSETFROM:-0500
TZOFFSETTO:-0600
TZNAME:CST
DTSTART:20271107T070000
END:STANDARD
END:VTIMEZONE
BEGIN:VEVENT
DTSTART;TZID=America/Chicago:20260303T123000
DTEND;TZID=America/Chicago:20260303T163000
DTSTAMP:20260419T134458
CREATED:20260217T162722Z
LAST-MODIFIED:20260217T162722Z
UID:10000276-1772541000-1772555400@mncasa.org
SUMMARY:Native-Focused 40-Hour Sexual Assault Advocacy Training  (MIWSAC)
DESCRIPTION:MIWSAC’s Native-focused\, 40-Hour Sexual Assault Advocacy Curriculum was created by Native women experts in the field. It is designed for Tribal communities\, and non-Native service providers working with and for Native people who have been impacted by sexual violence. \nTuesday and Thursday afternoons throughout March. Learn more and view the schedule here. \nThe goal of this Native-focused curriculum is to provide new and seasoned advocates with knowledge and skills they need to provide culturally responsive\, survivor-centered training for victims/survivors of sexual violence. \nThis curriculum meets the requirements of the State of Minnesota\, Statute 595.02 to ensure communication between advocates and victims of sexual assault is considered privileged information. \nThis curriculum may also be used for Tribal advocates in states other than Minnesota.
URL:https://mncasa.org/event/native-focused-40-hour-sexual-assault-advocacy-training-miwsac/
LOCATION:Online
CATEGORIES:Minnesota
ATTACH;FMTTYPE=image/jpeg:https://mncasa.org/wp-content/uploads/2026/02/FREEVirtualNativeFocused40HourSexualAssaultAdvocacyTrainingc6c458d6-fe66-42d1-bbc2-f356c7521c15-768x768-1.jpg
END:VEVENT
BEGIN:VEVENT
DTSTART;TZID=America/Chicago:20260311T140000
DTEND;TZID=America/Chicago:20260311T151500
DTSTAMP:20260419T134458
CREATED:20260209T162758Z
LAST-MODIFIED:20260209T162758Z
UID:10000274-1773237600-1773242100@mncasa.org
SUMMARY:Action Day 2026: In Solidarity We Rise: Reimagining Justice Together (Virtual and In-Person)
DESCRIPTION:Minnesota’s six anti-violence coalitions: Mending the Sacred Hoop\, Minnesota Alliance on Crime\, Minnesota Children’s Alliance\, Minnesota Coalition Against Sexual Assault\, Minnesota Indian Women’s Sexual Assault Coalition\, and Violence Free Minnesota are coming together for a joint Action Day 2026\, In Solidarity We Rise: Reimagining Justice Together\, at the Capitol on Wednesday\, March 11\, at 2:00! \nThere will be an in-person rally at the Capitol Rotunda 2:00-3:15 p.m. that will also be livestreamed. Please participate in the way that works best for you\, whether in-person or online. \nWe will share more information about other events during the day when it is available. \nLearn more here.
URL:https://mncasa.org/event/action-day-2026-in-solidarity-we-rise-reimagining-justice-together-virtual-and-in-person/
LOCATION:Minnesota State Capitol Rotunda\, 75 Rev. Dr. Martin Luther King Blvd\, Saint Paul\, MN\, 55155\, United States
ATTACH;FMTTYPE=image/png:https://mncasa.org/wp-content/uploads/2026/02/Action-Day-2025-In-Solidarity-We-Rise.png
ORGANIZER;CN="Minnesota Coalition Against Sexual Assault":MAILTO:info@mncasa.org
END:VEVENT
END:VCALENDAR