BEGIN:VCALENDAR
VERSION:2.0
PRODID:-//Minnesota Coalition Against Sexual Assault - ECPv6.15.17.1//NONSGML v1.0//EN
CALSCALE:GREGORIAN
METHOD:PUBLISH
X-WR-CALNAME:Minnesota Coalition Against Sexual Assault
X-ORIGINAL-URL:https://mncasa.org
X-WR-CALDESC:Events for Minnesota Coalition Against Sexual Assault
REFRESH-INTERVAL;VALUE=DURATION:PT1H
X-Robots-Tag:noindex
X-PUBLISHED-TTL:PT1H
BEGIN:VTIMEZONE
TZID:America/Chicago
BEGIN:DAYLIGHT
TZOFFSETFROM:-0600
TZOFFSETTO:-0500
TZNAME:CDT
DTSTART:20250309T080000
END:DAYLIGHT
BEGIN:STANDARD
TZOFFSETFROM:-0500
TZOFFSETTO:-0600
TZNAME:CST
DTSTART:20251102T070000
END:STANDARD
BEGIN:DAYLIGHT
TZOFFSETFROM:-0600
TZOFFSETTO:-0500
TZNAME:CDT
DTSTART:20260308T080000
END:DAYLIGHT
BEGIN:STANDARD
TZOFFSETFROM:-0500
TZOFFSETTO:-0600
TZNAME:CST
DTSTART:20261101T070000
END:STANDARD
BEGIN:DAYLIGHT
TZOFFSETFROM:-0600
TZOFFSETTO:-0500
TZNAME:CDT
DTSTART:20270314T080000
END:DAYLIGHT
BEGIN:STANDARD
TZOFFSETFROM:-0500
TZOFFSETTO:-0600
TZNAME:CST
DTSTART:20271107T070000
END:STANDARD
END:VTIMEZONE
BEGIN:VEVENT
DTSTART;TZID=America/Chicago:20260422T180000
DTEND;TZID=America/Chicago:20260422T210000
DTSTAMP:20260419T120000
CREATED:20260319T190604Z
LAST-MODIFIED:20260319T190604Z
UID:10000282-1776880800-1776891600@mncasa.org
SUMMARY:Member-Hosted Event: Spring Trivia Night 2026 (Standpoint)
DESCRIPTION:Mark your calendars for Standpoint’s 2026 Annual Spring Fundraiser event during Sexual Assault Awareness Month (SAAM). Your involvement is crucial in safeguarding and empowering victims. Together\, let’s ensure they receive the safety\, support\, and knowledge they deserve. Stand in solidarity with us as we amplify the voices of survivors. Don’t miss this opportunity to make a tangible difference! \n  \nDate:\nWednesday\, April 22nd\nDoors open at 6:00PM; Trivia starts at 7:00PM \nLocation: \n56 Brewing\n(3055 Columbia Ave NE\, Minneapolis MN 55418)\nAccessible venue and ample free parking available \nActivities: \n❓🎷 Trivia with Wild Chords DJ Services! 📺❔\n👑 Eggroll Queen food truck onsite! ✨\nDrinks Available for Sale! (N/A Options Too!)\nGames & Prizes! Raffles! \nCost: \nOnly $20 per person! \n🐾Well-behaved & leashed dogs are encouraged to join the party! 🐶 \n  \nLike a Good Neighbor\, Trivia is There\nTV and Commercial Jingles Extravaganza! \n  \nThink you know the opening themes of the most iconic TV shows? Put your knowledge to the test in this interactive challenge where we turn your brain’s ‘commercial breaks’ into a competitive sport. From the snack jingles you haven’t heard in 20 years to the theme songs that define your childhood\, we’re playing the hits that are stuck in your head – and finally putting them to good use! \n  \nWhat to Expect\n \n\nAudio Snippets: Guess the brand or show from just the first few seconds of a melody.\nThe “Lyrics” Round: Complete famous slogans like “Like a good neighbor\, _________ is there”.\nFast-Paced Fun: A high-energy atmosphere where the faster you recognize the tune\, the more points your team earns.\n\nNostalgic Rewards: Win prizes\, free drinks\, and ultimate bragging rights as the master of the airwaves. \nAll proceeds go to help Standpoint continue to provide FREE legal advice and advocacy to domestic and sexual violence survivors\, and their providers\, in Minnesota. \nhttps://www.standpointmn.org/your-impact
URL:https://mncasa.org/event/member-hosted-event-spring-trivia-night-2026-standpoint/
LOCATION:56 Brewing\, 3055 Columbia Ave NE\, Minneapolis\, MN\, 54418
CATEGORIES:Minnesota
ATTACH;FMTTYPE=image/png:https://mncasa.org/wp-content/uploads/2026/03/Spring-2026-Flyer-1.png
END:VEVENT
BEGIN:VEVENT
DTSTART;TZID=America/Chicago:20260426T130000
DTEND;TZID=America/Chicago:20260426T140000
DTSTAMP:20260419T120000
CREATED:20260323T192704Z
LAST-MODIFIED:20260323T192704Z
UID:10000285-1777208400-1777212000@mncasa.org
SUMMARY:Member-Hosted Event: 3rd Annual Sexual Assault Awareness Walk (Someplace Safe)
DESCRIPTION:April is Sexual Assault Awareness Month! Join Someplace Safe\, the Otter Tail County Violence Prevention Task Force and the Otter Tail County Attorney’s Office for the 3rd Annual Sexual Assault Awareness Walk! Free Event – Open to the Public! Be sure to reserve your free t-shirt by contacting 218-998-8400.
URL:https://mncasa.org/event/member-hosted-event-3rd-annual-sexual-assault-awareness-walk-someplace-safe/
LOCATION:Spies Riverfront Park\, 117 S Union Ave\, Fergus Falls\, MN\, 56537
CATEGORIES:Minnesota
ATTACH;FMTTYPE=image/png:https://mncasa.org/wp-content/uploads/2026/03/Someplace-Safe-SA_Walk_FF.png
END:VEVENT
BEGIN:VEVENT
DTSTART;TZID=America/Chicago:20260429T113000
DTEND;TZID=America/Chicago:20260429T130000
DTSTAMP:20260419T120000
CREATED:20260323T191731Z
LAST-MODIFIED:20260323T191731Z
UID:10000284-1777462200-1777467600@mncasa.org
SUMMARY:Member-Hosted Event: Denim Day Sexual Assault Awareness Walk (Someplace Safe)
DESCRIPTION:
URL:https://mncasa.org/event/member-hosted-event-denim-day-sexual-assault-awareness-walk-someplace-safe/
LOCATION:Wadena Chamber of Commerce\, 100 Aldrich Ave SW\, Wadena\, MN\, 56482
CATEGORIES:Minnesota
ATTACH;FMTTYPE=image/png:https://mncasa.org/wp-content/uploads/2026/03/Someplace-Safe-Denim_Day_2026_Wadena_Walk.png
END:VEVENT
END:VCALENDAR